BEGIN:VCALENDAR
VERSION:2.0
PRODID:-//Perfetti-Netzwerk Riabilitazione Neurocognitiva eV - ECPv6.15.20//NONSGML v1.0//EN
CALSCALE:GREGORIAN
METHOD:PUBLISH
X-ORIGINAL-URL:https://perfetti-netzwerk-rnc.com
X-WR-CALDESC:Veranstaltungen für Perfetti-Netzwerk Riabilitazione Neurocognitiva eV
REFRESH-INTERVAL;VALUE=DURATION:PT1H
X-Robots-Tag:noindex
X-PUBLISHED-TTL:PT1H
BEGIN:VTIMEZONE
TZID:Europe/Paris
BEGIN:DAYLIGHT
TZOFFSETFROM:+0100
TZOFFSETTO:+0200
TZNAME:CEST
DTSTART:20250330T010000
END:DAYLIGHT
BEGIN:STANDARD
TZOFFSETFROM:+0200
TZOFFSETTO:+0100
TZNAME:CET
DTSTART:20251026T010000
END:STANDARD
BEGIN:DAYLIGHT
TZOFFSETFROM:+0100
TZOFFSETTO:+0200
TZNAME:CEST
DTSTART:20260329T010000
END:DAYLIGHT
BEGIN:STANDARD
TZOFFSETFROM:+0200
TZOFFSETTO:+0100
TZNAME:CET
DTSTART:20261025T010000
END:STANDARD
BEGIN:DAYLIGHT
TZOFFSETFROM:+0100
TZOFFSETTO:+0200
TZNAME:CEST
DTSTART:20270328T010000
END:DAYLIGHT
BEGIN:STANDARD
TZOFFSETFROM:+0200
TZOFFSETTO:+0100
TZNAME:CET
DTSTART:20271031T010000
END:STANDARD
END:VTIMEZONE
BEGIN:VEVENT
DTSTART;VALUE=DATE:20260904
DTEND;VALUE=DATE:20260907
DTSTAMP:20260420T152430
CREATED:20260107T155531Z
LAST-MODIFIED:20260107T155531Z
UID:236-1788480000-1788739199@perfetti-netzwerk-rnc.com
SUMMARY:Praxiskurs
DESCRIPTION:Von Italien anerkannter Praxiskurs der Neurokognitiven Rehabilitation nach Prof. Carlo Perfetti\n\n\nThema\nDie Durchführung der Befundung\, der Behandlungsplanung und der Behandlung an Patienten erfolgt in Kleingruppen mit begleitender Hilfestellung und in der Gesamtgruppe werden die einzelnen Schritte vorgestellt\, diskutiert und gemeinsam Verbesserungsvorschläge erarbeitet.\n\n\nReferent:\nSusanne Wopfner MSc\, Dipl. Physiotherapeutin\, anerkannte Dozentin für Neurokognitive Rehabilitation\, Pädagogin\, Zirl/Austria\n\n\nDatum:\n04. – 06.09.2026\n\n\nOrt:\nMünchen Kliniken\, Klinik Bogenhausen\, Englschalkinger Str. 77\, 81925 München\, Deutschland\n\n\nKontakt:\nAstner Maria Rosina\, mariarosina.astner@muenchen-klinik.de\, Tel.: +49 89 3068 7918\, Fax: +49 89 3068 7525\, www.muenchen-klinik.de
URL:https://perfetti-netzwerk-rnc.com/event/praxiskurs
END:VEVENT
END:VCALENDAR