BEGIN:VCALENDAR
VERSION:2.0
PRODID:-//Perfetti-Netzwerk Riabilitazione Neurocognitiva eV - ECPv6.15.20//NONSGML v1.0//EN
CALSCALE:GREGORIAN
METHOD:PUBLISH
X-ORIGINAL-URL:https://perfetti-netzwerk-rnc.com
X-WR-CALDESC:Veranstaltungen für Perfetti-Netzwerk Riabilitazione Neurocognitiva eV
REFRESH-INTERVAL;VALUE=DURATION:PT1H
X-Robots-Tag:noindex
X-PUBLISHED-TTL:PT1H
BEGIN:VTIMEZONE
TZID:Europe/Paris
BEGIN:DAYLIGHT
TZOFFSETFROM:+0100
TZOFFSETTO:+0200
TZNAME:CEST
DTSTART:20260329T010000
END:DAYLIGHT
BEGIN:STANDARD
TZOFFSETFROM:+0200
TZOFFSETTO:+0100
TZNAME:CET
DTSTART:20261025T010000
END:STANDARD
BEGIN:DAYLIGHT
TZOFFSETFROM:+0100
TZOFFSETTO:+0200
TZNAME:CEST
DTSTART:20270328T010000
END:DAYLIGHT
BEGIN:STANDARD
TZOFFSETFROM:+0200
TZOFFSETTO:+0100
TZNAME:CET
DTSTART:20271031T010000
END:STANDARD
BEGIN:DAYLIGHT
TZOFFSETFROM:+0100
TZOFFSETTO:+0200
TZNAME:CEST
DTSTART:20280326T010000
END:DAYLIGHT
BEGIN:STANDARD
TZOFFSETFROM:+0200
TZOFFSETTO:+0100
TZNAME:CET
DTSTART:20281029T010000
END:STANDARD
END:VTIMEZONE
BEGIN:VEVENT
DTSTART;VALUE=DATE:20270311
DTEND;VALUE=DATE:20270314
DTSTAMP:20260420T214935
CREATED:20260107T155829Z
LAST-MODIFIED:20260107T155829Z
UID:242-1804723200-1804982399@perfetti-netzwerk-rnc.com
SUMMARY:Monographischer Kurs
DESCRIPTION:Von Italien anerkannter monographischer Kurs der Neurokognitiven Rehabilitation nach Prof. Carlo Perfetti\n\n\nThema:\n„Von der Organisation der Handlungen im Liegen zur Organisation der Handlungen im Stehen bei neurologischen Patienten“ \nTheorie und Anwendung der Neurokognitiven Rehabilitation nach Prof. Perfetti unter besonderer Berücksichtigung der Organisation der Bewegungsübergänge vom Liegen zum Stand. \nKosten: 350\,00€\n\n\nReferent:\nDozent oder Dozentin der Villa Miari\, das Forschungszentrum der Neurokognitiven Rehabilitation Carlo Perfetti in Santorso / Italien \nÜbersetzung: Susanne Wopfner\n\n\nDatum:\n11. – 13.03. 2027\n\n\nOrt:\nKlinikum Bremen-Mitte\, St.-Jürgen-Straße 1\, 28205 Bremen\, Deutschland\n\n\nAnmeldung:\ninfo@perfetti-netzwerk-rnc.com.
URL:https://perfetti-netzwerk-rnc.com/event/monographischer-kurs-2
END:VEVENT
END:VCALENDAR