BEGIN:VCALENDAR
VERSION:2.0
PRODID:-//Perfetti-Netzwerk Riabilitazione Neurocognitiva eV - ECPv6.15.20//NONSGML v1.0//EN
CALSCALE:GREGORIAN
METHOD:PUBLISH
X-ORIGINAL-URL:https://perfetti-netzwerk-rnc.com
X-WR-CALDESC:Veranstaltungen für Perfetti-Netzwerk Riabilitazione Neurocognitiva eV
REFRESH-INTERVAL;VALUE=DURATION:PT1H
X-Robots-Tag:noindex
X-PUBLISHED-TTL:PT1H
BEGIN:VTIMEZONE
TZID:Europe/Paris
BEGIN:DAYLIGHT
TZOFFSETFROM:+0100
TZOFFSETTO:+0200
TZNAME:CEST
DTSTART:20250330T010000
END:DAYLIGHT
BEGIN:STANDARD
TZOFFSETFROM:+0200
TZOFFSETTO:+0100
TZNAME:CET
DTSTART:20251026T010000
END:STANDARD
BEGIN:DAYLIGHT
TZOFFSETFROM:+0100
TZOFFSETTO:+0200
TZNAME:CEST
DTSTART:20260329T010000
END:DAYLIGHT
BEGIN:STANDARD
TZOFFSETFROM:+0200
TZOFFSETTO:+0100
TZNAME:CET
DTSTART:20261025T010000
END:STANDARD
BEGIN:DAYLIGHT
TZOFFSETFROM:+0100
TZOFFSETTO:+0200
TZNAME:CEST
DTSTART:20270328T010000
END:DAYLIGHT
BEGIN:STANDARD
TZOFFSETFROM:+0200
TZOFFSETTO:+0100
TZNAME:CET
DTSTART:20271031T010000
END:STANDARD
END:VTIMEZONE
BEGIN:VEVENT
DTSTART;VALUE=DATE:20261204
DTEND;VALUE=DATE:20261207
DTSTAMP:20260420T165736
CREATED:20260107T155745Z
LAST-MODIFIED:20260107T155745Z
UID:240-1796342400-1796601599@perfetti-netzwerk-rnc.com
SUMMARY:Grundausbildung der Neurokognitiven Rehabilitation – Basiskurs: Modul 2 und 3
DESCRIPTION:Von Italien anerkannter Basiskurs der Neurokognitiven Rehabilitation nach Prof. Carlo Perfetti\n\n\nThema: \n  \n  \n  \nVoraussetzung:\nWissenschaftlicher Hintergrund der Neurokognitiven Rehabilitation\, Vermittlung von theoretischen und praktischen Hintergrundwissen\, Befundung\, Behandlung der oberen Extremität\, des Rumpfes und der unteren Extremität bei neurologischen Patienten \nEinführungskurs Modul 1 oder die Lektüre und das Studium von zwei Fachartikeln (werden bei Bedarf per mail zugeschickt).\n\n\nReferent:\nSusanne Wopfner MSc\, Dipl. Physiotherapeutin\, anerkannte Dozentin für Neurokognitive Rehabilitation\, Pädagogin\, Zirl/Austria\n\n\nDatum:\nModul 2: 04. – 06.12.2026\, Modul 3: 05. – 07.02.2027 \nModul 2 und 3 können nur gemeinsam gebucht werden.\n\n\nOrt:\nFortbildungsakademie für therapeutische Berufe\, Scharitzerstr. 8\, 4020 Linz / Österreich\n\n\nKontakt:\nwww.fortbildungsakademie.at\, Tel.: +43 732 66 50 58\, Fax: +43 732 60 54 50 – 89
URL:https://perfetti-netzwerk-rnc.com/event/grundausbildung-der-neurokognitiven-rehabilitation-basiskurs-modul-2-und-3-2
END:VEVENT
END:VCALENDAR